Workbook
Name BAS: #REF!
Name BASI: #REF!
Name Katsayı: [1]Sheet2!$A$1:$B$408
Name KOD: #REF!
Name LISTEKOD: 'VUK 32 DEĞERLEME'!#REF!
Name LISTEKOD: #REF!
Name oran: #REF!
Name TASITBAS: #REF!
Name tesmakbas: #REF!

Sheet Sayfa1
B2: Değerleme Öncesi | E2: Değerleme Sonrası | H2: Değer Artışı
A3: Satır Etiketleri | B3: Toplam Sabit Kıymet Tutarı | C3: Toplam Birikmiş Amortisman | D3: Toplam Net Aktif Değeri | E3: Toplam Sabit Kıymet Tutarı2 | F3: Toplam Birikmiş Amortisman Tutarı | G3: Toplam Net Aktif Değeri2 | H3: Toplam Sabit Kıymet Farkı | I3: Toplam B. Amort. Farkı | J3: Toplam Net Aktif Farkı | K3: Toplam Vergi
A4: (boş) | D4: 0 | E4: 0 | F4: 0 | G4: 0 | H4: 0 | I4: 0 | J4: 0 | K4: 0
A5: Genel Toplam | D5: 0 | E5: 0 | F5: 0 | G5: 0 | H5: 0 | I5: 0 | J5: 0 | K5: 0

Sheet VUK 32 DEĞERLEME
L1: YENİDEN DEĞERLEME ÖNCESİ | P1: YENİDEN DEĞERLEME SONRASI | S1: YENİDEN DEĞERLEME FARKI
A2: Sıra | B2: HESAP KODU | C2: AÇIKLAMA | D2: 7144 Sy Kanun Kapsamında Yeniden Değerleme Yapıldı mı? Mayıs 2018 | E2: 7326 Sy Kanun Kapsamında Yeniden Değerleme Yapıldı mı? Haziran 2021 | F2: Aktife Giriş Tarihi | G2: Amortisman Süresi Yıl Bazında | H2: İtfa olan sabit kıymetler için (İ) Amortisman ayrılmaya devam edilenler için (D) | I2: Aktife Girdiği Tarihten Sonraki Ay | J2: Düzeltmeye Esas Tarih | K2: Aktife Giriş Bedeli | L2: Sabit Kıymet Tutarı | M2: Birikmiş Amortisman | N2: Net Aktif Değeri | O2: Yeniden Değerleme Oranı | P2: Sabit Kıymet Tutarı | Q2: Birikmiş Amortisman Tutarı | R2: Net Aktif Değeri | S2: Sabit Kıymet Farkı | T2: B. Amort. Farkı | U2: Net Aktif Farkı | V2: Vergi | X2: 250 | Y2: Evet | Z2: İ
A3: 1 | B3: 252.02 | C3: İncirlik Depo Ve Arsa | D3: Hayır | E3: Hayır | F3: 31.03.2018 | G3: 5 | I3: =IF(F3>0,EOMONTH(F3,1)," ") -> 43220 | J3: =IF(F3>0,IF(D3="Evet",43221,IF(E3="Evet",44348,IF(F3<=38352,38352+30,IF(I3>44561,44561,I3))))," ") -> 43220 | K3: 62559.32 | L3: 9888517.9 | M3: 593311.08 | N3: =IF(L3>0,L3-M3," ") -> 9295206.8 | O3: =IF(H3="İ",1,IF(F3=0," ",IF(D3="Evet",#REF!,IF(E3="Evet",#REF!,VLOOKUP(J3,#REF!,2))))) -> #REF! | P3: =IF(F3=0," ",L3*O3) -> #REF! | Q3: =IF(L3<=0," ",IF(P3<=0," ",M3*O3)) -> #REF! | R3: =IF(L3>0,P3-Q3," ") -> #REF! | S3: =IF(F3=0," ",P3-L3) -> #REF! | T3: =IF(M3=0," ",Q3-M3) -> #REF! | U3: =IF(L3<=0," ",IF(T3=" ",S3,S3-T3)) -> #REF! | V3: =IF(L3>0,U3*0.02," ") -> #REF! | X3: 251 | Y3: Hayır | Z3: D
A4: 2 | B4: 252.03 | C4: Şanlıurfa Mesken | D4: Hayır | E4: Hayır | F4: 24.04.2019 | G4: 50 | I4: =IF(F4>0,EOMONTH(F4,1)," ") -> 43616 | J4: =IF(F4>0,IF(D4="Evet",43221,IF(E4="Evet",44348,IF(F4<=38352,38352+30,IF(I4>44561,44561,I4))))," ") -> 43616 | K4: 110200 | L4: 110200 | M4: 6612 | N4: =IF(L4>0,L4-M4," ") -> 103588 | O4: =IF(H4="İ",1,IF(F4=0," ",IF(D4="Evet",#REF!,IF(E4="Evet",#REF!,VLOOKUP(J4,#REF!,2))))) -> #REF! | P4: =IF(F4=0," ",L4*O4) -> #REF! | Q4: =IF(L4<=0," ",IF(P4<=0," ",M4*O4)) -> #REF! | R4: =IF(L4>0,P4-Q4," ") -> #REF! | S4: =IF(F4=0," ",P4-L4) -> #REF! | T4: =IF(M4=0," ",Q4-M4) -> #REF! | U4: =IF(L4<=0," ",IF(T4=" ",S4,S4-T4)) -> #REF! | V4: =IF(L4>0,U4*0.02," ") -> #REF! | X4: 252
A5: 3 | B5: 253.01.02 | C5: JENARATÖR ALİMAR EAG 25 | D5: Hayır | E5: Hayır | F5: 16.01.2016 | G5: 10 | I5: =IF(F5>0,EOMONTH(F5,1)," ") -> 42429 | J5: =IF(F5>0,IF(D5="Evet",43221,IF(E5="Evet",44348,IF(F5<=38352,38352+30,IF(I5>44561,44561,I5))))," ") -> 42429 | K5: 12288.14 | L5: 12288.14 | M5: 7372.884 | N5: =IF(L5>0,L5-M5," ") -> 4915.256 | O5: =IF(H5="İ",1,IF(F5=0," ",IF(D5="Evet",#REF!,IF(E5="Evet",#REF!,VLOOKUP(J5,#REF!,2))))) -> #REF! | P5: =IF(F5=0," ",L5*O5) -> #REF! | Q5: =IF(L5<=0," ",IF(P5<=0," ",M5*O5)) -> #REF! | R5: =IF(L5>0,P5-Q5," ") -> #REF! | S5: =IF(F5=0," ",P5-L5) -> #REF! | T5: =IF(M5=0," ",Q5-M5) -> #REF! | U5: =IF(L5<=0," ",IF(T5=" ",S5,S5-T5)) -> #REF! | V5: =IF(L5>0,U5*0.02," ") -> #REF! | X5: 253
A6: 12 | B6: 254.00.03 | C6: Citroen Berlingo 01 BBS 79 | D6: Hayır | E6: Hayır | F6: 10.06.2011 | G6: 5 | I6: =IF(F6>0,EOMONTH(F6,1)," ") -> 40755 | J6: =IF(F6>0,IF(D6="Evet",43221,IF(E6="Evet",44348,IF(F6<=38352,38352+30,IF(I6>44561,44561,I6))))," ") -> 40755 | K6: 24200 | L6: 24200 | M6: 24200 | N6: =IF(L6>0,L6-M6," ") -> 0 | O6: =IF(H6="İ",1,IF(F6=0," ",IF(D6="Evet",#REF!,IF(E6="Evet",#REF!,VLOOKUP(J6,#REF!,2))))) -> #REF! | P6: =IF(F6=0," ",L6*O6) -> #REF! | Q6: =IF(L6<=0," ",IF(P6<=0," ",M6*O6)) -> #REF! | R6: =IF(L6>0,P6-Q6," ") -> #REF! | S6: =IF(F6=0," ",P6-L6) -> #REF! | T6: =IF(M6=0," ",Q6-M6) -> #REF! | U6: =IF(L6<=0," ",IF(T6=" ",S6,S6-T6)) -> #REF! | V6: =IF(L6>0,U6*0.02," ") -> #REF!
A7: 13 | B7: 254.00.04 | C7: CİTROEN NEMO COMBİ 01 BKA 46 | D7: Hayır | E7: Hayır | F7: 1.12.2011 | G7: 5 | I7: =IF(F7>0,EOMONTH(F7,1)," ") -> 40939 | J7: =IF(F7>0,IF(D7="Evet",43221,IF(E7="Evet",44348,IF(F7<=38352,38352+30,IF(I7>44561,44561,I7))))," ") -> 40939 | K7: 22758.5 | L7: 22758.5 | M7: 22758.5 | N7: =IF(L7>0,L7-M7," ") -> 0 | O7: =IF(H7="İ",1,IF(F7=0," ",IF(D7="Evet",#REF!,IF(E7="Evet",#REF!,VLOOKUP(J7,#REF!,2))))) -> #REF! | P7: =IF(F7=0," ",L7*O7) -> #REF! | Q7: =IF(L7<=0," ",IF(P7<=0," ",M7*O7)) -> #REF! | R7: =IF(L7>0,P7-Q7," ") -> #REF! | S7: =IF(F7=0," ",P7-L7) -> #REF! | T7: =IF(M7=0," ",Q7-M7) -> #REF! | U7: =IF(L7<=0," ",IF(T7=" ",S7,S7-T7)) -> #REF! | V7: =IF(L7>0,U7*0.02," ") -> #REF!
A8: 14 | B8: 254.00.05 | C8: CİTROEN NEMO COMBİ 01 BUN 96 | D8: Hayır | E8: Hayır | F8: 20.07.2012 | G8: 2 | I8: =IF(F8>0,EOMONTH(F8,1)," ") -> 41152 | J8: =IF(F8>0,IF(D8="Evet",43221,IF(E8="Evet",44348,IF(F8<=38352,38352+30,IF(I8>44561,44561,I8))))," ") -> 41152 | K8: 22390.5 | L8: 22390.5 | M8: 22390.5 | N8: =IF(L8>0,L8-M8," ") -> 0 | O8: =IF(H8="İ",1,IF(F8=0," ",IF(D8="Evet",#REF!,IF(E8="Evet",#REF!,VLOOKUP(J8,#REF!,2))))) -> #REF! | P8: =IF(F8=0," ",L8*O8) -> #REF! | Q8: =IF(L8<=0," ",IF(P8<=0," ",M8*O8)) -> #REF! | R8: =IF(L8>0,P8-Q8," ") -> #REF! | S8: =IF(F8=0," ",P8-L8) -> #REF! | T8: =IF(M8=0," ",Q8-M8) -> #REF! | U8: =IF(L8<=0," ",IF(T8=" ",S8,S8-T8)) -> #REF! | V8: =IF(L8>0,U8*0.02," ") -> #REF!
A9: 15 | B9: 254.00.06 | C9: Citroen nemo Combi 01CDF14 | D9: Hayır | E9: Hayır | F9: 31.12.2012 | G9: 5 | I9: =IF(F9>0,EOMONTH(F9,1)," ") -> 41305 | J9: =IF(F9>0,IF(D9="Evet",43221,IF(E9="Evet",44348,IF(F9<=38352,38352+30,IF(I9>44561,44561,I9))))," ") -> 41305 | K9: 21526 | L9: 21526 | M9: 21526 | N9: =IF(L9>0,L9-M9," ") -> 0 | O9: =IF(H9="İ",1,IF(F9=0," ",IF(D9="Evet",#REF!,IF(E9="Evet",#REF!,VLOOKUP(J9,#REF!,2))))) -> #REF! | P9: =IF(F9=0," ",L9*O9) -> #REF! | Q9: =IF(L9<=0," ",IF(P9<=0," ",M9*O9)) -> #REF! | R9: =IF(L9>0,P9-Q9," ") -> #REF! | S9: =IF(F9=0," ",P9-L9) -> #REF! | T9: =IF(M9=0," ",Q9-M9) -> #REF! | U9: =IF(L9<=0," ",IF(T9=" ",S9,S9-T9)) -> #REF! | V9: =IF(L9>0,U9*0.02," ") -> #REF!
A10: 16 | B10: 254.00.07 | C10: Citroen Nemo Combi 01CDF15 | D10: Hayır | E10: Hayır | F10: 31.12.2012 | G10: 5 | I10: =IF(F10>0,EOMONTH(F10,1)," ") -> 41305 | J10: =IF(F10>0,IF(D10="Evet",43221,IF(E10="Evet",44348,IF(F10<=38352,38352+30,IF(I10>44561,44561,I10))))," ") -> 41305 | K10: 21526 | L10: 21526 | M10: 21526 | N10: =IF(L10>0,L10-M10," ") -> 0 | O10: =IF(H10="İ",1,IF(F10=0," ",IF(D10="Evet",#REF!,IF(E10="Evet",#REF!,VLOOKUP(J10,#REF!,2))))) -> #REF! | P10: =IF(F10=0," ",L10*O10) -> #REF! | Q10: =IF(L10<=0," ",IF(P10<=0," ",M10*O10)) -> #REF! | R10: =IF(L10>0,P10-Q10," ") -> #REF! | S10: =IF(F10=0," ",P10-L10) -> #REF! | T10: =IF(M10=0," ",Q10-M10) -> #REF! | U10: =IF(L10<=0," ",IF(T10=" ",S10,S10-T10)) -> #REF! | V10: =IF(L10>0,U10*0.02," ") -> #REF!
A11: 17 | B11: 254.00.10 | C11: OPEL NEW CORSA BİNEK OTO 01 BNM 11 | D11: Hayır | E11: Hayır | F11: 29.02.2012 | G11: 5 | I11: =IF(F11>0,EOMONTH(F11,1)," ") -> 40999 | J11: =IF(F11>0,IF(D11="Evet",43221,IF(E11="Evet",44348,IF(F11<=38352,38352+30,IF(I11>44561,44561,I11))))," ") -> 40999 | K11: 31387.15 | L11: 31387.15 | M11: 31387.15 | N11: =IF(L11>0,L11-M11," ") -> 0 | O11: =IF(H11="İ",1,IF(F11=0," ",IF(D11="Evet",#REF!,IF(E11="Evet",#REF!,VLOOKUP(J11,#REF!,2))))) -> #REF! | P11: =IF(F11=0," ",L11*O11) -> #REF! | Q11: =IF(L11<=0," ",IF(P11<=0," ",M11*O11)) -> #REF! | R11: =IF(L11>0,P11-Q11," ") -> #REF! | S11: =IF(F11=0," ",P11-L11) -> #REF! | T11: =IF(M11=0," ",Q11-M11) -> #REF! | U11: =IF(L11<=0," ",IF(T11=" ",S11,S11-T11)) -> #REF! | V11: =IF(L11>0,U11*0.02," ") -> #REF!
A12: 18 | B12: 254.00.13 | C12: 01 Fg 176 Bmw 2012 | D12: Hayır | E12: Hayır | F12: 2.06.2015 | G12: 5 | I12: =IF(F12>0,EOMONTH(F12,1)," ") -> 42216 | J12: =IF(F12>0,IF(D12="Evet",43221,IF(E12="Evet",44348,IF(F12<=38352,38352+30,IF(I12>44561,44561,I12))))," ") -> 42216 | K12: 88500 | L12: 88500 | M12: 88500 | N12: =IF(L12>0,L12-M12," ") -> 0 | O12: =IF(H12="İ",1,IF(F12=0," ",IF(D12="Evet",#REF!,IF(E12="Evet",#REF!,VLOOKUP(J12,#REF!,2))))) -> #REF! | P12: =IF(F12=0," ",L12*O12) -> #REF! | Q12: =IF(L12<=0," ",IF(P12<=0," ",M12*O12)) -> #REF! | R12: =IF(L12>0,P12-Q12," ") -> #REF! | S12: =IF(F12=0," ",P12-L12) -> #REF! | T12: =IF(M12=0," ",Q12-M12) -> #REF! | U12: =IF(L12<=0," ",IF(T12=" ",S12,S12-T12)) -> #REF! | V12: =IF(L12>0,U12*0.02," ") -> #REF!
A13: 78 | B13: 254.00.16 | C13: 34 ZG 1247 RENO OTO | D13: Hayır | E13: Hayır | F13: 2.09.2016 | G13: 5 | I13: =IF(F13>0,EOMONTH(F13,1)," ") -> 42674 | J13: =IF(F13>0,IF(D13="Evet",43221,IF(E13="Evet",44348,IF(F13<=38352,38352+30,IF(I13>44561,44561,I13))))," ") -> 42674 | K13: 46000 | L13: 46000 | M13: 46000 | N13: =IF(L13>0,L13-M13," ") -> 0 | O13: =IF(H13="İ",1,IF(F13=0," ",IF(D13="Evet",#REF!,IF(E13="Evet",#REF!,VLOOKUP(J13,#REF!,2))))) -> #REF! | P13: =IF(F13=0," ",L13*O13) -> #REF! | Q13: =IF(L13<=0," ",IF(P13<=0," ",M13*O13)) -> #REF! | R13: =IF(L13>0,P13-Q13," ") -> #REF! | S13: =IF(F13=0," ",P13-L13) -> #REF! | T13: =IF(M13=0," ",Q13-M13) -> #REF! | U13: =IF(L13<=0," ",IF(T13=" ",S13,S13-T13)) -> #REF! | V13: =IF(L13>0,U13*0.02," ") -> #REF!
A14: 78 | B14: 254.00.20 | C14: MERCDES BENZ 2012 OTOMOBİL 01 ADD 734 | D14: Hayır | E14: Hayır | F14: 8.03.2018 | G14: 5 | I14: =IF(F14>0,EOMONTH(F14,1)," ") -> 43220 | J14: =IF(F14>0,IF(D14="Evet",43221,IF(E14="Evet",44348,IF(F14<=38352,38352+30,IF(I14>44561,44561,I14))))," ") -> 43220 | K14: 57000 | L14: 57000 | M14: 45600 | N14: =IF(L14>0,L14-M14," ") -> 11400 | O14: =IF(H14="İ",1,IF(F14=0," ",IF(D14="Evet",#REF!,IF(E14="Evet",#REF!,VLOOKUP(J14,#REF!,2))))) -> #REF! | P14: =IF(F14=0," ",L14*O14) -> #REF! | Q14: =IF(L14<=0," ",IF(P14<=0," ",M14*O14)) -> #REF! | R14: =IF(L14>0,P14-Q14," ") -> #REF! | S14: =IF(F14=0," ",P14-L14) -> #REF! | T14: =IF(M14=0," ",Q14-M14) -> #REF! | U14: =IF(L14<=0," ",IF(T14=" ",S14,S14-T14)) -> #REF! | V14: =IF(L14>0,U14*0.02," ") -> #REF!
A15: 78 | B15: 254.00.24 | C15: 2012 Range Rover Hususi Araç 34 CFE 282 | D15: Hayır | E15: Hayır | F15: 30.01.2020 | G15: 5 | I15: =IF(F15>0,EOMONTH(F15,1)," ") -> 43890 | J15: =IF(F15>0,IF(D15="Evet",43221,IF(E15="Evet",44348,IF(F15<=38352,38352+30,IF(I15>44561,44561,I15))))," ") -> 43890 | K15: 285000 | L15: 285000 | M15: 114000 | N15: =IF(L15>0,L15-M15," ") -> 171000 | O15: =IF(H15="İ",1,IF(F15=0," ",IF(D15="Evet",#REF!,IF(E15="Evet",#REF!,VLOOKUP(J15,#REF!,2))))) -> #REF! | P15: =IF(F15=0," ",L15*O15) -> #REF! | Q15: =IF(L15<=0," ",IF(P15<=0," ",M15*O15)) -> #REF! | R15: =IF(L15>0,P15-Q15," ") -> #REF! | S15: =IF(F15=0," ",P15-L15) -> #REF! | T15: =IF(M15=0," ",Q15-M15) -> #REF! | U15: =IF(L15<=0," ",IF(T15=" ",S15,S15-T15)) -> #REF! | V15: =IF(L15>0,U15*0.02," ") -> #REF!
A16: 78 | B16: 254.00.25 | C16: 2020 Ford Transit Ecoblue 01 FJ 220 | D16: Hayır | E16: Hayır | F16: 20.02.2020 | G16: 5 | I16: =IF(F16>0,EOMONTH(F16,1)," ") -> 43921 | J16: =IF(F16>0,IF(D16="Evet",43221,IF(E16="Evet",44348,IF(F16<=38352,38352+30,IF(I16>44561,44561,I16))))," ") -> 43921 | K16: 151991.56 | L16: 151991.56 | M16: 60796.624 | N16: =IF(L16>0,L16-M16," ") -> 91194.936 | O16: =IF(H16="İ",1,IF(F16=0," ",IF(D16="Evet",#REF!,IF(E16="Evet",#REF!,VLOOKUP(J16,#REF!,2))))) -> #REF! | P16: =IF(F16=0," ",L16*O16) -> #REF! | Q16: =IF(L16<=0," ",IF(P16<=0," ",M16*O16)) -> #REF! | R16: =IF(L16>0,P16-Q16," ") -> #REF! | S16: =IF(F16=0," ",P16-L16) -> #REF! | T16: =IF(M16=0," ",Q16-M16) -> #REF! | U16: =IF(L16<=0," ",IF(T16=" ",S16,S16-T16)) -> #REF! | V16: =IF(L16>0,U16*0.02," ") -> #REF!
A17: 78 | B17: 254.00.27 | C17: T2 RENAULT 34 PC 8154 | D17: Hayır | E17: Hayır | F17: 26.11.2021 | G17: 5 | I17: =IF(F17>0,EOMONTH(F17,1)," ") -> 44561 | J17: =IF(F17>0,IF(D17="Evet",43221,IF(E17="Evet",44348,IF(F17<=38352,38352+30,IF(I17>44561,44561,I17))))," ") -> 44561 | K17: 132000 | L17: 132000 | M17: 4400 | N17: =IF(L17>0,L17-M17," ") -> 127600 | O17: =IF(H17="İ",1,IF(F17=0," ",IF(D17="Evet",#REF!,IF(E17="Evet",#REF!,VLOOKUP(J17,#REF!,2))))) -> #REF! | P17: =IF(F17=0," ",L17*O17) -> #REF! | Q17: =IF(L17<=0," ",IF(P17<=0," ",M17*O17)) -> #REF! | R17: =IF(L17>0,P17-Q17," ") -> #REF! | S17: =IF(F17=0," ",P17-L17) -> #REF! | T17: =IF(M17=0," ",Q17-M17) -> #REF! | U17: =IF(L17<=0," ",IF(T17=" ",S17,S17-T17)) -> #REF! | V17: =IF(L17>0,U17*0.02," ") -> #REF!
... A78: 84 | B78: 255.09.04 | C78: DEPO TEREKLERİ 2 | D78: Hayır | E78: Hayır | F78: 31.03.2018 | G78: 5 | I78: =IF(F78>0,EOMONTH(F78,1)," ") -> 43220 | J78: =IF(F78>0,IF(D78="Evet",43221,IF(E78="Evet",44348,IF(F78<=38352,38352+30,IF(I78>44561,44561,I78))))," ") -> 43220 | K78: 1078634.6 | L78: 1078634.6 | M78: 862907.64 | N78: =IF(L78>0,L78-M78," ") -> 215726.91 | O78: =IF(H78="İ",1,IF(F78=0," ",IF(D78="Evet",#REF!,IF(E78="Evet",#REF!,VLOOKUP(J78,#REF!,2))))) -> #REF! | P78: =IF(F78=0," ",L78*O78) -> #REF! | Q78: =IF(L78<=0," ",IF(P78<=0," ",M78*O78)) -> #REF! | R78: =IF(L78>0,P78-Q78," ") -> #REF! | S78: =IF(F78=0," ",P78-L78) -> #REF! | T78: =IF(M78=0," ",Q78-M78) -> #REF! | U78: =IF(L78<=0," ",IF(T78=" ",S78,S78-T78)) -> #REF! | V78: =IF(L78>0,U78*0.02," ") -> #REF!
T79: 522 hesaba | U79: =SUM(U3:U78) -> #REF! | V79: =SUM(V3:V78) -> #REF! | AA79: vergi

Sheet VUK 298 Ç DEĞERLEME
A2: SN | B2: HESAP KODU | C2: HESAP ADI | D2: ALIŞ TARİHİ | E2: ALIŞ TUTARI | F2: AMORTİSMAN SÜRESİ | G2: BİRİKMİŞ AMORTİSMAN | H2: DEĞERLEME ÖNCESİ NET BİLANÇO AKTİF DEĞERİ | I2: DEĞERLEME ORANI | J2: DEĞERLEME SONRASI VARLIĞIN YENİ DEĞERİ(1 OCAK 2022 SONRASI AMORTİSMN BU TUTAR ÜZERİNDEN HESAPLANACAK) | K2: DEĞERLEME SONRASI YENİ BİRİKMİŞ AMORTİSMAN TUTARI | L2: DEĞERLEME SONRASI VARLIĞIN NET BİLANÇO AKTİF DEĞERİ | M2: 522 HESABA AKTARILACAK ARTIŞ TUTARI | N2: 252 HESABA YAPILACAK EK KAYIT | O2: 257 HESABA YAPILACAK EK KAYIT | P2: DURUMU
A3: 1 | B3: 252.02 | C3: İncirlik Depo Ve Arsa | D3: 31.03.2018 | E3: 29567460 | F3: 5 | G3: 1774047.6 | H3: =E3-G3 -> 27793412 | I3: 1.6112 | J3: =E3*I3 -> 47639091 | K3: =G3*I3 -> 2858345.5 | L3: =J3-K3 -> 44780745 | M3: =L3-H3 -> 16987333 | N3: =J3-E3 -> 18071631 | O3: =K3-G3 -> 1084297.9 | P3: Kapalı
A4: 2 | B4: 252.03 | C4: Şanlıurfa Mesken | D4: 24.04.2019 | E4: 246643.03 | F4: 5 | G4: 14798.582 | H4: =E4-G4 -> 231844.45 | I4: 1.6112 | J4: =E4*I4 -> 397391.25 | K4: =G4*I4 -> 23843.475 | L4: =J4-K4 -> 373547.77 | M4: =L4-H4 -> 141703.33 | N4: =J4-E4 -> 150748.22 | O4: =K4-G4 -> 9044.8931 | P4: Kapalı
A5: 3 | B5: 253.01.02 | C5: JENARATÖR ALİMAR EAG 25 | D5: 16.01.2016 | E5: 50214.01 | F5: 10 | G5: 30128.406 | H5: =E5-G5 -> 20085.604 | I5: 1.6112 | J5: =E5*I5 -> 80904.812 | K5: =G5*I5 -> 48542.887 | L5: =J5-K5 -> 32361.925 | M5: =L5-H5 -> 12276.321 | N5: =J5-E5 -> 30690.803 | O5: =K5-G5 -> 18414.482 | P5: Aç
A6: 4 | B6: 254.00.03 | C6: Citroen Berlingo 01 BBS 79 | D6: 10.06.2011 | E6: 130497.53 | F6: 5 | G6: 130497.53 | H6: =E6-G6 -> 0 | I6: 1.6112 | J6: =E6*I6 -> 210257.62 | K6: =G6*I6 -> 210257.62 | L6: =J6-K6 -> 0 | M6: =L6-H6 -> 0 | N6: =J6-E6 -> 79760.092 | O6: =K6-G6 -> 79760.092 | P6: Kapalı
A7: 5 | B7: 254.00.04 | C7: CİTROEN NEMO COMBİ 01 BKA 46 | D7: 1.12.2011 | E7: 114548.76 | F7: 5 | G7: 114548.76 | H7: =E7-G7 -> 0 | I7: 1.6112 | J7: =E7*I7 -> 184560.97 | K7: =G7*I7 -> 184560.97 | L7: =J7-K7 -> 0 | M7: =L7-H7 -> 0 | N7: =J7-E7 -> 70012.205 | O7: =K7-G7 -> 70012.205 | P7: Kapalı
A8: 6 | B8: 254.00.05 | C8: CİTROEN NEMO COMBİ 01 BUN 96 | D8: 20.07.2012 | E8: 113473.04 | F8: 2 | G8: 113473.04 | H8: =E8-G8 -> 0 | I8: 1.6112 | J8: =E8*I8 -> 182827.76 | K8: =G8*I8 -> 182827.76 | L8: =J8-K8 -> 0 | M8: =L8-H8 -> 0 | N8: =J8-E8 -> 69354.721 | O8: =K8-G8 -> 69354.721 | P8: Kapalı
A9: 7 | B9: 254.00.06 | C9: Citroen nemo Combi 01CDF14 | D9: 31.12.2012 | E9: 106350.28 | F9: 5 | G9: 106350.28 | H9: =E9-G9 -> 0 | I9: 1.6112 | J9: =E9*I9 -> 171351.57 | K9: =G9*I9 -> 171351.57 | L9: =J9-K9 -> 0 | M9: =L9-H9 -> 0 | N9: =J9-E9 -> 65001.291 | O9: =K9-G9 -> 65001.291 | P9: Aç
A10: 8 | B10: 254.00.07 | C10: Citroen Nemo Combi 01CDF15 | D10: 31.12.2012 | E10: 106350.28 | F10: 5 | G10: 106350.28 | H10: =E10-G10 -> 0 | I10: 1.6112 | J10: =E10*I10 -> 171351.57 | K10: =G10*I10 -> 171351.57 | L10: =J10-K10 -> 0 | M10: =L10-H10 -> 0 | N10: =J10-E10 -> 65001.291 | O10: =K10-G10 -> 65001.291 | P10: Aç
A11: 9 | B11: 254.00.10 | C11: OPEL NEW CORSA BİNEK OTO 01 BNM 11 | D11: 29.02.2012 | E11: 157559.73 | F11: 5 | G11: 157559.73 | H11: =E11-G11 -> 0 | I11: 1.6112 | J11: =E11*I11 -> 253860.23 | K11: =G11*I11 -> 253860.23 | L11: =J11-K11 -> 0 | M11: =L11-H11 -> 0 | N11: =J11-E11 -> 96300.505 | O11: =K11-G11 -> 96300.505 | P11: Aç
A12: 10 | B12: 254.00.13 | C12: 01 Fg 176 Bmw 2012 | D12: 2.06.2015 | E12: 364809.39 | F12: 5 | G12: 364809.39 | H12: =E12-G12 -> 0 | I12: 1.6112 | J12: =E12*I12 -> 587780.89 | K12: =G12*I12 -> 587780.89 | L12: =J12-K12 -> 0 | M12: =L12-H12 -> 0 | N12: =J12-E12 -> 222971.5 | O12: =K12-G12 -> 222971.5 | P12: Aç
A13: 11 | B13: 254.00.16 | C13: 34 ZG 1247 RENO OTO | D13: 2.09.2016 | E13: 180207.76 | F13: 5 | G13: 180207.76 | H13: =E13-G13 -> 0 | I13: 1.6112 | J13: =E13*I13 -> 290350.74 | K13: =G13*I13 -> 290350.74 | L13: =J13-K13 -> 0 | M13: =L13-H13 -> 0 | N13: =J13-E13 -> 110142.98 | O13: =K13-G13 -> 110142.98 | P13: Aç
A14: 12 | B14: 254.00.20 | C14: MERCDES BENZ 2012 OTOMOBİL 01 ADD 734 | D14: 8.03.2018 | E14: 170434.56 | F14: 5 | G14: 136347.65 | H14: =E14-G14 -> 34086.912 | I14: 1.6112 | J14: =E14*I14 -> 274604.16 | K14: =G14*I14 -> 219683.33 | L14: =J14-K14 -> 54920.833 | M14: =L14-H14 -> 20833.921 | N14: =J14-E14 -> 104169.6 | O14: =K14-G14 -> 83335.682 | P14: Aç
... A78: 76 | B78: 255.09.04 | C78: DEPO TEREKLERİ 2 | D78: 31.03.2018 | E78: 3225203.6 | F78: 5 | G78: 2580162.9 | H78: =E78-G78 -> 645040.72 | I78: 1.6112 | J78: =E78*I78 -> 5196448 | K78: =G78*I78 -> 4157158.4 | L78: =J78-K78 -> 1039289.6 | M78: =L78-H78 -> 394248.89 | N78: =J78-E78 -> 1971244.4 | O78: =K78-G78 -> 1576995.5 | P78: Aç
M79: =SUM(M3:M78) -> 22422887
M80: VUK 32 SONRASI 298/Ç MADDESİ GEREĞİ YAPILAN SÜREKLİ DEĞERLEME

Sheet VUK 298.Ç DEĞERLEME
A1: SN | B1: HESAP KODU | C1: HESAP ADI | D1: ALIŞ TARİHİ | E1: 31.12.2025 TARİHLİ DEFTERE KAYITLI DEĞERİ | F1: AMORTİSMAN SÜRESİ | G1: BİRİKMİŞ AMORTİSMAN | H1: DEĞERLEME ÖNCESİ NET BİLANÇO AKTİF DEĞERİ | I1: DEĞERLEME ORANI | J1: DEĞERLEME SONRASI VARLIĞIN YENİ DEĞERİ | K1: DEĞERLEME SONRASI YENİ BİRİKMİŞ AMORTİSMAN TUTARI | L1: DEĞERLEME SONRASI VARLIĞIN NET BİLANÇO AKTİF DEĞERİ | M1: 522 HESABA AKTARILACAK ARTIŞ TUTARI | N1: 25-26 GRUPTAKİ VARLIĞIN DEĞERİNE EKLENECEK TUTAR | O1: 257 HESABA YAPILACAK KAYIT | P1: TABLOYU FORMÜLDEN AŞAĞI DOĞRU UZATARAK KULLANABİLİRSİNİZ
A2: 1 | B2: 254.02.82 | C2: 38 AAA 1111111 PLAKALI MERCEDES BENZ KAMYON | D2: 2023 | E2: 1070342.2 | F2: 5 | G2: =(E2/F2)*(2025-D2) -> 428136.87 | H2: =E2-G2 -> 642205.31 | I2: 1.2549 | J2: =E2*I2 -> 1343172.4 | K2: =G2*I2 -> 537268.96 | L2: =J2-K2 -> 805903.45 | M2: =L2-H2 -> 163698.13 | N2: =J2-E2 -> 272830.22 | O2: =K2-G2 -> 109132.09
A3: 2 | B3: 252.01.04 | C3: XYZ ADA PARSEL EV | D3: 2022 | E3: 17345862 | F3: 50 | G3: =(E3/F3)*(2025-D3) -> 1040751.7 | H3: =E3-G3 -> 16305110 | I3: 1.2549 | J3: =E3*I3 -> 21767322 | K3: =G3*I3 -> 1306039.3 | L3: =J3-K3 -> 20461283 | M3: =L3-H3 -> 4156172.6 | N3: =J3-E3 -> 4421460.2 | O3: =K3-G3 -> 265287.61
A4: 3 | B4: 252.01.04 | C4: ADC ADA BİNA | D4: 2021 | E4: 8452310 | F4: 50 | G4: =(E4/F4)*(2025-D4) -> 676184.8 | H4: =E4-G4 -> 7776125.2 | I4: 1.2549 | J4: =E4*I4 -> 10606804 | K4: =G4*I4 -> 848544.31 | L4: =J4-K4 -> 9758259.5 | M4: =L4-H4 -> 1982134.3 | N4: =J4-E4 -> 2154493.8 | O4: =K4-G4 -> 172359.51
A5: 4 | B5: 253.08.08 | C5: 34-00-000 PLAKALI İŞ MAKİNASI | D5: 2022 | E5: 2845652.1 | F5: 10 | G5: =(E5/F5)*(2025-D5) -> 853695.63 | H5: =E5-G5 -> 1991956.5 | I5: 1.2549 | J5: =E5*I5 -> 3571008.8 | K5: =G5*I5 -> 1071302.6 | L5: =J5-K5 -> 2499706.2 | M5: =L5-H5 -> 507749.7 | N5: =J5-E5 -> 725356.72 | O5: =K5-G5 -> 217607.02
A6: 5 | B6: 253.07.06 | C6: YÜZEY TEMİZLEME VE PLAK TESİSİ | D6: 2018 | E6: 1070342.2 | F6: 15 | G6: =(E6/F6)*(2025-D6) -> 499493.02 | H6: =E6-G6 -> 570849.17 | I6: 1.2549 | J6: =E6*I6 -> 1343172.4 | K6: =G6*I6 -> 626813.79 | L6: =J6-K6 -> 716358.62 | M6: =L6-H6 -> 145509.45 | N6: =J6-E6 -> 272830.22 | O6: =K6-G6 -> 127320.77
A7: 6 | B7: 253.08.06 | C7: PP 286 GÜÇ ÜNİTESİ | D7: 2022 | E7: 1070342.2 | F7: 10 | G7: =(E7/F7)*(2025-D7) -> 321102.66 | H7: =E7-G7 -> 749239.53 | I7: 1.2549 | J7: =E7*I7 -> 1343172.4 | K7: =G7*I7 -> 402951.72 | L7: =J7-K7 -> 940220.69 | M7: =L7-H7 -> 190981.16 | N7: =J7-E7 -> 272830.22 | O7: =K7-G7 -> 81849.067
A8: 7 | B8: 255.01.005 | C8: HP CORE İ7 BİLGİSAYAR | D8: 2024 | E8: 32000 | F8: 4 | G8: =(E8/F8)*(2025-D8) -> 8000 | H8: =E8-G8 -> 24000 | I8: 1.2549 | J8: =E8*I8 -> 40156.8 | K8: =G8*I8 -> 10039.2 | L8: =J8-K8 -> 30117.6 | M8: =L8-H8 -> 6117.6 | N8: =J8-E8 -> 8156.8 | O8: =K8-G8 -> 2039.2
A9: 8 | B9: 255.01.006 | C9: HP CORE İ7 BİLGİSAYAR 3 ADET | D9: 2024 | E9: 27500 | F9: 4 | G9: =(E9/F9)*(2025-D9) -> 6875 | H9: =E9-G9 -> 20625 | I9: 1.2549 | J9: =E9*I9 -> 34509.75 | K9: =G9*I9 -> 8627.4375 | L9: =J9-K9 -> 25882.312 | M9: =L9-H9 -> 5257.3125 | N9: =J9-E9 -> 7009.75 | O9: =K9-G9 -> 1752.4375
A10: 9 | B10: 255.01.007 | C10: IPHONE 17 PLUS | D10: 2024 | E10: 111251.23 | F10: 3 | G10: =(E10/F10)*(2025-D10) -> 37083.743 | H10: =E10-G10 -> 74167.487 | I10: 1.2549 | J10: =E10*I10 -> 139609.17 | K10: =G10*I10 -> 46536.39 | L10: =J10-K10 -> 93072.779 | M10: =L10-H10 -> 18905.292 | N10: =J10-E10 -> 28357.939 | O10: =K10-G10 -> 9452.6462
A11: 10 | B11: 255.01.008 | C11: LED TV | D11: 2024 | E11: 41250 | F11: 5 | G11: =(E11/F11)*(2025-D11) -> 8250 | H11: =E11-G11 -> 33000 | I11: 1.2549 | J11: =E11*I11 -> 51764.625 | K11: =G11*I11 -> 10352.925 | L11: =J11-K11 -> 41411.7 | M11: =L11-H11 -> 8411.7 | N11: =J11-E11 -> 10514.625 | O11: =K11-G11 -> 2102.925
A12: 11 | B12: 255.01.009 | C12: AKÜ | D12: 2024 | E12: 8000 | F12: 5 | G12: =(E12/F12)*(2025-D12) -> 1600 | H12: =E12-G12 -> 6400 | I12: 1.2549 | J12: =E12*I12 -> 10039.2 | K12: =G12*I12 -> 2007.84 | L12: =J12-K12 -> 8031.36 | M12: =L12-H12 -> 1631.36 | N12: =J12-E12 -> 2039.2 | O12: =K12-G12 -> 407.84

Sheet AÇIKLAMA VE KAYITLAR
A1: SN | B1: HESAP KODU | C1: HESAP ADI | D1: 25-26 GRUP BORCUNA GİDER | E1: 257-258 BİRİKMİŞ AMORTİSMANLAR ALACAĞINA | F1: 549 HESAP ALACAĞINA | I1: AÇIKLAMALAR
A2: 1 | B2: 254.02.82 | C2: 38 AAA 1111111 PLAKALI MERCEDES BENZ KAMYON | D2: ='VUK 298.Ç DEĞERLEME'!N2 -> 272830.22 | E2: ='VUK 298.Ç DEĞERLEME'!O2 -> 109132.09 | F2: ='VUK 298.Ç DEĞERLEME'!M2 -> 163698.13 | I2: EMTİA NİTELİĞİNDEKİ KIYMETLERE DEĞERLEME YAPILMAZ
A3: 2 | B3: 252.01.04 | C3: XYZ ADA PARSEL EV | D3: ='VUK 298.Ç DEĞERLEME'!N3 -> 4421460.2 | E3: ='VUK 298.Ç DEĞERLEME'!O3 -> 265287.61 | F3: ='VUK 298.Ç DEĞERLEME'!M3 -> 4156172.6 | I3: AMORTİSMANA TABİ OLMAYAN İKTİSADİ KIYMETLERE DEĞERLEME YAPILAMAZ
A4: 3 | B4: 252.01.04 | C4: ADC ADA BİNA | D4: ='VUK 298.Ç DEĞERLEME'!N4 -> 2154493.8 | E4: ='VUK 298.Ç DEĞERLEME'!O4 -> 172359.51 | F4: ='VUK 298.Ç DEĞERLEME'!M4 -> 1982134.3 | I4: NİTELİKLERİNİ KORUDUKLARI MÜDDETÇE SAT-KİRALA-GERİ AL İŞLEMİNE VEYA KİRA SERTİFİKASI İHRACINA KONU EDİLEN İKTİSADİ KIYMETLERE DEĞERLEME YAPILAMAZ
A5: 4 | B5: 253.08.08 | C5: 34-00-000 PLAKALI İŞ MAKİNASI | D5: ='VUK 298.Ç DEĞERLEME'!N5 -> 725356.72 | E5: ='VUK 298.Ç DEĞERLEME'!O5 -> 217607.02 | F5: ='VUK 298.Ç DEĞERLEME'!M5 -> 507749.7
A6: 5 | B6: 253.07.06 | C6: YÜZEY TEMİZLEME VE PLAK TESİSİ | D6: ='VUK 298.Ç DEĞERLEME'!N6 -> 272830.22 | E6: ='VUK 298.Ç DEĞERLEME'!O6 -> 127320.77 | F6: ='VUK 298.Ç DEĞERLEME'!M6 -> 145509.45
A7: 6 | B7: 253.08.06 | C7: PP 286 GÜÇ ÜNİTESİ | D7: ='VUK 298.Ç DEĞERLEME'!N7 -> 272830.22 | E7: ='VUK 298.Ç DEĞERLEME'!O7 -> 81849.067 | F7: ='VUK 298.Ç DEĞERLEME'!M7 -> 190981.16 | I7: YENİDEN DEĞERLEMENİN YAPILACAĞI DÖNEM SONU İTİBARIYLA AKTİFE KAYITLI OLMAYAN AMORTİSMANA TABİ İKTİSADİ KIYMETLER YENİDEN DEĞERLEMEYE TABİ TUTULAMAZ
A8: 7 | B8: 255.01.005 | C8: HP CORE İ7 BİLGİSAYAR | D8: ='VUK 298.Ç DEĞERLEME'!N8 -> 8156.8 | E8: ='VUK 298.Ç DEĞERLEME'!O8 -> 2039.2 | F8: ='VUK 298.Ç DEĞERLEME'!M8 -> 6117.6
A9: 8 | B9: 255.01.006 | C9: HP CORE İ7 BİLGİSAYAR 3 ADET | D9: ='VUK 298.Ç DEĞERLEME'!N9 -> 7009.75 | E9: ='VUK 298.Ç DEĞERLEME'!O9 -> 1752.4375 | F9: ='VUK 298.Ç DEĞERLEME'!M9 -> 5257.3125
A10: 9 | B10: 255.01.007 | C10: IPHONE 17 PLUS | D10: ='VUK 298.Ç DEĞERLEME'!N10 -> 28357.939 | E10: ='VUK 298.Ç DEĞERLEME'!O10 -> 9452.6462 | F10: ='VUK 298.Ç DEĞERLEME'!M10 -> 18905.292 | I10: YENİDEN DEĞERLEMENİN YAPILACAĞI HESAP DÖNEMİNDE AKTİFE DAHİL EDİLEN AMORTİSMANA TABİ İKTİSADİ KIYMETLER İÇİN YENİDEN DEĞERLEME YAPILAMAZ. DİĞER BİR İFADE İLE AMORTİSMANA TABİ İKTİSADİ KIYMETLER İÇİN AKTİFE DAHİL EDİLDİKLERİ HESAP DÖNEMİNDE YENİDEN DEĞERLEME YAPILAMAZ.ÖRNEĞİN 2024 YILI SONUNDA 258 HESAPTA OLUPTA 2025 YILINDA 252 BİNALAR HESABINA ALINAN BİR KIYMETE DE DEĞERLEME YAPILAMAZ.
A11: 10 | B11: 255.01.008 | C11: LED TV | D11: ='VUK 298.Ç DEĞERLEME'!N11 -> 10514.625 | E11: ='VUK 298.Ç DEĞERLEME'!O11 -> 2102.925 | F11: ='VUK 298.Ç DEĞERLEME'!M11 -> 8411.7
A12: 11 | B12: 255.01.009 | C12: AKÜ | D12: ='VUK 298.Ç DEĞERLEME'!N12 -> 2039.2 | E12: ='VUK 298.Ç DEĞERLEME'!O12 -> 407.84 | F12: ='VUK 298.Ç DEĞERLEME'!M12 -> 1631.36

Sheet DEĞERLEME ORANLARI
A1: YIL/Yİ-ÜFE ORANLARI | B1: OCAK | C1: ŞUBAT | D1: MART | E1: NİSAN | F1: MAYIS | G1: HAZİRAN | H1: TEMMUZ | I1: AĞUSTOS | J1: EYLÜL | K1: EKİM | L1: KASIM | M1: ARALIK
A2: 2026 | B2: 4910.53 | N2: DÖNEM | O2: DEĞERLEME ORANI | P2: DÖNEM | Q2: DEĞERLEME ORANI | R2: DÖNEM | S2: DEĞERLEME ORANI | T2: DÖNEM | U2: DEĞERLEME ORANI
A3: 2025 | B3: 3861.33 | C3: 3943.01 | D3: 4017.3 | E3: 4128.19 | F3: 4230.69 | G3: 4334.94 | H3: 4409.73 | I3: 4518.89 | J3: 4632.89 | K3: 4708.2 | L3: 4747.63 | M3: 4783.04 | N3: 2026 YILLIK | P3: 2026 1.DÖNEM GEÇİCİ | Q3: =((B2+M3+L3))/((K3+J3+I3))-1 -> 0.041935125 | R3: 2026 2.DÖNEM GEÇİCİ | T3: 2026 3.DÖNEM GEÇİCİ
A4: 2024 | B4: 3035.59 | C4: 3149.03 | D4: 3252.79 | E4: 3369.98 | F4: 3435.96 | G4: 3483.25 | H4: 3550.88 | I4: 3610.51 | J4: 3659.84 | K4: 3707.1 | L4: 3731.43 | M4: 3746.52 | N4: 2025 YILLIK | O4: =((K3+J3+I3+H3+G3+F3+E3+D3+C3+B3+M4+L4))/((K4+J4+I4+H4+G4+F4+E4+D4+C4+B4+M5+L5))-1 -> 0.25494688 | P4: 2025 1.DÖNEM GEÇİCİ | Q4: =((B3+M4+L4))/((K4+J4+I4))-1 -> 0.032961207 | R4: 2025 2.DÖNEM GEÇİCİ | S4: =((E3+D3+C3+B3+M4+L4))/((K4+J4+I4+H4+G4+F4))-1 -> 0.09232947 | T4: 2025 3.DÖNEM GEÇİCİ | U4: =((H3+G3+F3+E3+D3+C3+B3+M4+L4))/((K4+J4+I4+H4+G4+F4+E4+D4+C4))-1 -> 0.16604451
A5: 2023 | B5: 2105.17 | C5: 2138.04 | D5: 2147.44 | E5: 2164.94 | F5: 2179.02 | G5: 2320.72 | H5: 2511.75 | I5: 2659.6 | J5: 2749.98 | K5: 2803.29 | L5: 2882.04 | M5: 2915.02 | N5: 2024 YILLIK | O5: =((K4+J4+I4+H4+G4+F4+E4+D4+C4+B4+M5+L5))/((K5+J5+I5+H5+G5+F5+E5+D5+C5+B5+M6+L6))-1 -> 0.43930978 | P5: 2024 1.DÖNEM GEÇİCİ | Q5: =((B4+M5+L5))/((K5+J5+I5))-1 -> 0.075464484 | R5: 2024 2.DÖNEM GEÇİCİ | S5: =((E4+D4+C4+B4+M5+L5))/((K5+J5+I5+H5+G5+F5))-1 -> 0.22201853 | T5: 2024 3.DÖNEM GEÇİCİ | U5: =((H4+G4+F4+E4+D4+C4+B4+M5+L5))/((K5+J5+I5+H5+G5+F5+E5+D5+C5))-1 -> 0.34139954
A6: 2022 | B6: 1129.03 | C6: 1210.6 | D6: 1321.9 | E6: 1423.27 | F6: 1548.01 | G6: 1652.75 | H6: 1738.21 | I6: 1780.05 | J6: 1865.09 | K6: 2011.13 | L6: 2026.08 | M6: 2021.19 | N6: 2023 YILLIK | O6: =((K5+J5+I5+H5+G5+F5+E5+D5+C5+B5+M6+L6))/((K6+J6+I6+H6+G6+F6+E6+D6+C6+B6+M7+L7))-1 -> 0.58462865 | P6: 2023 1.DÖNEM GEÇİCİ | Q6: =((B5+M6+L6))/((K6+J6+I6))-1 -> 0.087720353 | R6: 2023 2.DÖNEM GEÇİCİ | S6: =((E5+D5+C5+B5+M6+L6))/((K6+J6+I6+H6+G6+F6))-1 -> 0.1894832 | T6: 2023 3.DÖNEM GEÇİCİ | U6: =((H5+G5+F5+E5+D5+C5+B5+M6+L6))/((K6+J6+I6+H6+G6+F6+E6+D6+C6))-1 -> 0.34797172
A7: 2021 | B7: 583.38 | C7: 590.52 | D7: 614.93 | E7: 641.63 | F7: 666.79 | G7: 693.54 | H7: 710.61 | I7: 730.28 | J7: 741.58 | K7: 780.45 | L7: 858.43 | M7: 1022.25 | N7: 2022 YILLIK | O7: =((K6+J6+I6+H6+G6+F6+E6+D6+C6+B6+M7+L7))/((K7+J7+I7+H7+G7+F7+E7+D7+C7+B7+M8+L8))-1 -> 1.2293212 | P7: 2022 1.DÖNEM GEÇİCİ | Q7: =((B6+M7+L7))/((K7+J7+I7))-1 -> 0.33627698 | R7: 2022 2.DÖNEM GEÇİCİ | S7: =((E6+D6+C6+B6+M7+L7))/((K7+J7+I7+H7+G7+F7))-1 -> 0.61116752 | T7: 2022 3.DÖNEM GEÇİCİ | U7: =((H6+G6+F6+E6+D6+C6+B6+M7+L7))/((K7+J7+I7+H7+G7+F7+E7+D7+C7))-1 -> 0.92930524
A8: 2020 | B8: 462.42 | C8: 464.64 | D8: 468.69 | E8: 474.69 | F8: 482.02 | G8: 485.37 | H8: 490.33 | I8: 501.85 | J8: 515.13 | K8: 533.44 | L8: 555.18 | M8: 568.27 | N8: 2021 YILLIK | O8: =((K7+J7+I7+H7+G7+F7+E7+D7+C7+B7+M8+L8))/((K8+J8+I8+H8+G8+F8+E8+D8+C8+B8+M9+L9))-1 -> 0.36197509 | P8: 2021 1.DÖNEM GEÇİCİ | Q8: =((B7+M8+L8))/((K8+J8+I8))-1 -> 0.10088234 | R8: 2021 2.DÖNEM GEÇİCİ | S8: =((E7+D7+C7+B7+M8+L8))/((K8+J8+I8+H8+G8+F8))-1 -> 0.18143105 | T8: 2021 3.DÖNEM GEÇİCİ | U8: =((H7+G7+F7+E7+D7+C7+B7+M8+L8))/((K8+J8+I8+H8+G8+F8+E8+D8+C8))-1 -> 0.27369706
A9: 2019 | B9: 424.86 | C9: 425.26 | D9: 431.98 | E9: 444.85 | F9: 456.74 | G9: 457.16 | H9: 452.63 | I9: 449.96 | J9: 450.55 | K9: 451.31 | L9: 450.97 | M9: 454.08 | N9: 2020 YILLIK | O9: =((K8+J8+I8+H8+G8+F8+E8+D8+C8+B8+M9+L9))/((K9+J9+I9+H9+G9+F9+E9+D9+C9+B9+M10+L10))-1 -> 0.091088309 | P9: 2020 1.DÖNEM GEÇİCİ | Q9: =((B8+M9+L9))/((K9+J9+I9))-1 -> 0.011576985 | R9: 2020 2.DÖNEM GEÇİCİ | S9: =((E8+D8+C8+B8+M9+L9))/((K9+J9+I9+H9+G9+F9))-1 -> 0.021020104 | T9: 2020 3.DÖNEM GEÇİCİ | U9: =((H8+G8+F8+E8+D8+C8+B8+M9+L9))/((K9+J9+I9+H9+G9+F9+E9+D9+C9))-1 -> 0.052922068
A10: 2018 | B10: 319.6 | C10: 328.17 | D10: 333.21 | E10: 341.88 | F10: 354.85 | G10: 365.6 | H10: 372.06 | I10: 396.62 | J10: 439.78 | K10: 443.78 | L10: 432.55 | M10: 422.94 | N10: 2019 YILLIK | O10: =((K9+J9+I9+H9+G9+F9+E9+D9+C9+B9+M10+L10))/((K10+J10+I10+H10+G10+F10+E10+D10+C10+B10+M11+L11))-1 -> 0.22583159 | P10: 2019 1.DÖNEM GEÇİCİ | Q10: =((B9+M10+L10))/((K10+J10+I10))-1 -> 0.00013279383 | R10: 2019 2.DÖNEM GEÇİCİ | S10: =((E9+D9+C9+B9+M10+L10))/((K10+J10+I10+H10+G10+F10))-1 -> 0.088401772 | T10: 2019 3.DÖNEM GEÇİCİ | U10: =((H9+G9+F9+E9+D9+C9+B9+M10+L10))/((K10+J10+I10+H10+G10+F10+E10+D10+C10))-1 -> 0.16973593
A11: 2017 | B11: 284.99 | C11: 288.59 | D11: 291.58 | E11: 293.79 | F11: 295.31 | G11: 295.52 | H11: 297.65 | I11: 300.18 | J11: 300.9 | K11: 306.04 | L11: 312.21 | M11: 316.48 | N11: 2018 YILLIK | O11: =((K10+J10+I10+H10+G10+F10+E10+D10+C10+B10+M11+L11))/((K11+J11+I11+H11+G11+F11+E11+D11+C11+B11+M12+L12))-1 -> 0.23733547 | P11: 2018 1.DÖNEM GEÇİCİ | Q11: =((B10+M11+L11))/((K11+J11+I11))-1 -> 0.045385396 | R11: 2018 2.DÖNEM GEÇİCİ | S11: =((E10+D10+C10+B10+M11+L11))/((K11+J11+I11+H11+G11+F11))-1 -> 0.086851192 | T11: 2018 3.DÖNEM GEÇİCİ | U11: =((H10+G10+F10+E10+D10+C10+B10+M11+L11))/((K11+J11+I11+H11+G11+F11+E11+D11+C11))-1 -> 0.14028529
A12: 2016 | B12: 250.67 | C12: 250.16 | D12: 251.17 | E12: 252.47 | F12: 256.21 | G12: 257.27 | H12: 257.81 | I12: 258.01 | J12: 258.77 | K12: 260.94 | L12: 266.16 | M12: 274.09 | N12: 2017 YILLIK | O12: =((K11+J11+I11+H11+G11+F11+E11+D11+C11+B11+M12+L12))/((K12+J12+I12+H12+G12+F12+E12+D12+C12+B12+M13+L13))-1 -> 0.14474012 | P12: 2017 1.DÖNEM GEÇİCİ | Q12: =((B11+M12+L12))/((K12+J12+I12))-1 -> 0.061101682 | R12: 2017 2.DÖNEM GEÇİCİ | S12: =((E11+D11+C11+B11+M12+L12))/((K12+J12+I12+H12+G12+F12))-1 -> 0.096958703 | T12: 2017 3.DÖNEM GEÇİCİ | U12: =((H11+G11+F11+E11+D11+C11+B11+M12+L12))/((K12+J12+I12+H12+G12+F12+E12+D12+C12))-1 -> 0.12370539
A13: 2015 | B13: 236.61 | C13: 239.46 | D13: 241.97 | E13: 245.42 | F13: 248.15 | G13: 248.78 | H13: 247.99 | I13: 250.43 | J13: 254.25 | K13: 253.74 | L13: 250.13 | M13: 249.31 | N13: 2016 YILLIK | O13: =((K12+J12+I12+H12+G12+F12+E12+D12+C12+B12+M13+L13))/((K13+J13+I13+H13+G13+F13+E13+D13+C13+B13+M14+L14))-1 -> 0.038305745 | P13: 2016 1.DÖNEM GEÇİCİ | Q13: =((B12+M13+L13))/((K13+J13+I13))-1 -> -0.01095699 | R13: 2016 2.DÖNEM GEÇİCİ | S13: =((E12+D12+C12+B12+M13+L13))/((K13+J13+I13+H13+G13+F13))-1 -> 0.00037915575 | T13: 2016 3.DÖNEM GEÇİCİ | U13: =((H12+G12+F12+E12+D12+C12+B12+M13+L13))/((K13+J13+I13+H13+G13+F13+E13+D13+C13))-1 -> 0.020182137
A14: 2014 | B14: 229.1 | C14: 232.27 | D14: 233.98 | E14: 234.18 | F14: 232.96 | G14: 233.09 | H14: 234.79 | I14: 235.78 | J14: 237.79 | K14: 239.97 | L14: 237.65 | M14: 235.84 | N14: 2015 YILLIK | O14: =((K13+J13+I13+H13+G13+F13+E13+D13+C13+B13+M14+L14))/((K14+J14+I14+H14+G14+F14+E14+D14+C14+B14+M15+L15))-1 -> 0.055774589 | P14: 2015 1.DÖNEM GEÇİCİ | Q14: =((B13+M14+L14))/((K14+J14+I14))-1 -> -0.0048210332 | R14: 2015 2.DÖNEM GEÇİCİ | S14: =((E13+D13+C13+B13+M14+L14))/((K14+J14+I14+H14+G14+F14))-1 -> 0.015957522 | T14: 2015 3.DÖNEM GEÇİCİ | U14: =((H13+G13+F13+E13+D13+C13+B13+M14+L14))/((K14+J14+I14+H14+G14+F14+E14+D14+C14))-1 -> 0.031709704
A15: 2013 | B15: 206.91 | C15: 206.65 | D15: 208.33 | E15: 207.27 | F15: 209.34 | G15: 212.39 | H15: 214.5 | I15: 214.59 | J15: 216.48 | K15: 217.97 | L15: 219.31 | M15: 221.74 | N15: 2014 YILLIK | O15: =((K14+J14+I14+H14+G14+F14+E14+D14+C14+B14+M15+L15))/((K15+J15+I15+H15+G15+F15+E15+D15+C15+B15+M16+L16))-1 -> 0.10109676 | P15: 2014 1.DÖNEM GEÇİCİ | Q15: =((B14+M15+L15))/((K15+J15+I15))-1 -> 0.03252496 | R15: 2014 2.DÖNEM GEÇİCİ | S15: =((E14+D14+C14+B14+M15+L15))/((K15+J15+I15+H15+G15+F15))-1 -> 0.066375159 | T15: 2014 3.DÖNEM GEÇİCİ | U15: =((H14+G14+F14+E14+D14+C14+B14+M15+L15))/((K15+J15+I15+H15+G15+F15+E15+D15+C15))-1 -> 0.085923083
... A18: 2010 | B18: 164.94 | C18: 167.68 | D18: 170.94 | E18: 174.96 | F18: 172.95 | G18: 172.08 | H18: 171.81 | I18: 173.79 | J18: 174.67 | K18: 176.78 | L18: 176.23 | M18: 178.54 | N18: 2011 YILLIK | O18: =((K17+J17+I17+H17+G17+F17+E17+D17+C17+B17+M18+L18))/((K18+J18+I18+H18+G18+F18+E18+D18+C18+B18+M19+L19))-1 -> 0.10258364 | P18: 2011 1.DÖNEM GEÇİCİ | Q18: =((B17+M18+L18))/((K18+J18+I18))-1 -> 0.023379788 | R18: 2011 2.DÖNEM GEÇİCİ | S18: =((E17+D17+C17+B17+M18+L18))/((K18+J18+I18+H18+G18+F18))-1 -> 0.056454399 | T18: 2011 3.DÖNEM GEÇİCİ | U18: =((H17+G17+F17+E17+D17+C17+B17+M18+L18))/((K18+J18+I18+H18+G18+F18+E18+D18+C18))-1 -> 0.073312935
A19: 2009 | B19: 155.16 | C19: 156.97 | D19: 157.43 | E19: 158.45 | F19: 158.37 | G19: 159.86 | H19: 158.74 | I19: 159.4 | J19: 160.38 | K19: 160.84 | L19: 162.92 | M19: 163.98

Sheet AMORTİSMAN KARŞILAŞTIRMA
C1: TARİH | D1: ORAN | E1: TUTAR | F1: AMORTİSMAN ANIL 2021 ARALIK AYINA KADAR TAM HESAPLANMIŞ | G1: ELİTA | H1: FARK
C2: 44504 | D2: 50 | E2: 100000 | F2: 0 | G2: 0 | H2: =G2-F2 -> 0 | J2: 100000
C3: 44504 | D3: 50 | E3: 100000 | F3: 0 | G3: 0 | H3: =G3-F3 -> 0 | J3: 100000
C4: 41086 | D4: 10 | E4: 20338.98 | F4: =E4/D4*D4 -> 20338.98 | G4: 20338.98 | H4: =G4-F4 -> 0 | J4: 103337.48
C5: 41111 | D5: 10 | E5: 2500 | F5: =E5/D5*D5 -> 2500 | G5: 2500 | H5: =G5-F5 -> 0 | J5: 12669.775
C6: 41122 | D6: 50 | E6: 1525000 | F6: =E6/D6*10 -> 305000 | G6: 320250.1 | H6: =G6-F6 -> 15250.1 | J6: 7649689.8
C7: 41166 | D7: 10 | E7: 5084.75 | F7: =E7/D7*D7 -> 5084.75 | G7: 593.22 | H7: =G7-F7 -> -4491.53 | J7: 25461.072
C8: 41274 | D8: 10 | E8: 5932.2 | F8: =E8/D8*D8 -> 5932.2 | G8: 5932.2 | H8: =G8-F8 -> 0 | J8: 29308.331
C9: 41274 | D9: 5 | E9: 284495.8 | F9: =E9/D9*D9 -> 284495.8 | G9: 284495.8 | H9: =G9-F9 -> 0 | J9: 1405565.7
C10: 41355 | D10: 10 | E10: 2550 | F10: =E10/D10*9 -> 2295 | G10: 2422.5 | H10: =G10-F10 -> 127.5 | J10: 12576.523
C11: 41554 | D11: 14.999993 | E11: 5700 | F11: =E11/D11*9 -> 3420.0017 | G11: 3610.1 | H11: =G11-F11 -> 190.09829 | J11: 26568.897
C12: 41641 | D12: 10 | E12: 99526 | F12: =E12/D12*8 -> 79620.8 | G12: 84597 | H12: =G12-F12 -> 4976.2 | J12: 438025.87
C13: 41641 | D13: 10 | E13: 390190 | F13: =E13/D13*8 -> 312152 | G13: 331661.4 | H13: =G13-F13 -> 19509.4 | J13: 1717273
C14: 41641 | D14: 14.999993 | E14: 870871 | F14: =E14/D14*8 -> 464464.77 | G14: 493493.5 | H14: =G14-F14 -> 29028.734 | J14: 3832807.8
C15: 41641 | D15: 14.999993 | E15: 15543 | F15: =E15/D15*8 -> 8289.6041 | G15: 8807.7 | H15: =G15-F15 -> 518.09586 | J15: 68406.608
C16: 41646 | D16: 14.999993 | E16: 3600 | F16: =E16/D16*8 -> 1920.001 | G16: 2040 | H16: =G16-F16 -> 119.99904 | J16: 15844.032
C17: 41730 | D17: 50 | E17: 1975000 | F17: =E17/D17*8 -> 316000 | G17: 335750.1 | H17: =G17-F17 -> 19750.1 | J17: 8666477.8
C18: 41821 | D18: 50 | E18: 670453 | F18: =E18/D18*8 -> 107272.48 | G18: 113976.96 | H18: =G18-F18 -> 6704.48 | J18: 2906816
C19: 41821 | D19: 50 | E19: 466817 | F19: =E19/D19*8 -> 74690.72 | G19: 79358.94 | H19: =G19-F19 -> 4668.22 | J19: 2023931.8
C20: 41821 | D20: 50 | E20: 5382465 | F20: =E20/D20*8 -> 861194.4 | G20: 915019.2 | H20: =G20-F20 -> 53824.8 | J20: 23336215
C21: 42004 | D21: 20 | E21: 42878 | F21: =E21/D21*8 -> 17151.2 | G21: 18223.2 | H21: =G21-F21 -> 1072 | J21: 185250.11
C22: 42369 | D22: 14.999993 | E22: 3750 | F22: =E22/D22*7 -> 1750.0009 | G22: 1874.9 | H22: =G22-F22 -> 124.89913 | J22: 15292.763
C23: 42369 | D23: 40 | E23: 29284.6 | F23: =E23/D23*7 -> 5124.805 | G23: 5490.88 | H23: =G23-F23 -> 366.075 | J23: 119424.65
C24: 42369 | D24: 40 | E24: 19869.02 | F24: =E24/D24*7 -> 3477.0785 | G24: 3725.33 | H24: =G24-F24 -> 248.2515 | J24: 81027.254
C25: 43846 | D25: 4 | E25: 35359.8 | F25: =E25/D25*2 -> 17679.9 | G25: 22099.8 | H25: =G25-F25 -> 4419.9 | J25: 77794.742
C26: 43853 | D26: 5 | E26: 1200 | F26: =E26/D26*2 -> 480 | G26: 600 | H26: =G26-F26 -> 120 | J26: 2640.108
C27: 43848 | D27: 5 | E27: 18287.04 | F27: =E27/D27*2 -> 7314.816 | G27: 9143.4 | H27: =G27-F27 -> 1828.584 | J27: 40233.134
C28: 43857 | D28: 5 | E28: 2000 | F28: =E28/D28*2 -> 800 | G28: 999.9 | H28: =G28-F28 -> 199.9 | J28: 4400.18
C29: 43860 | D29: 4 | E29: 235072.4 | F29: =E29/D29*2 -> 117536.2 | G29: 146920.2 | H29: =G29-F29 -> 29384 | J29: 517180.44
C30: 43920 | D30: 3.0000003 | E30: 120 | F30: =E30/D30*2 -> 79.999992 | G30: 99.9 | H30: =G30-F30 -> 19.900008 | J30: 258.4212
C31: 43918 | D31: 5 | E31: 600 | F31: =E31/D31*2 -> 240 | G31: 300 | H31: =G31-F31 -> 60 | J31: 1292.106
C32: 43917 | D32: 14.999993 | E32: 39830.51 | F32: =E32/D32*2 -> 5310.7373 | G32: 6638.41 | H32: =G32-F32 -> 1327.6727 | J32: 85775.402
C33: 43892 | D33: 5 | E33: 39830.51 | F33: =E33/D33*2 -> 15932.204 | G33: 19915.2 | H33: =G33-F33 -> 3982.996 | J33: 85775.402
C34: 43899 | D34: 5 | E34: 53638.34 | F34: =E34/D34*2 -> 21455.336 | G34: 26819.1 | H34: =G34-F34 -> 5363.764 | J34: 115510.7
C35: 43913 | D35: 5 | E35: 40064.86 | F35: =E35/D35*2 -> 16025.944 | G35: 20032.5 | H35: =G35-F35 -> 4006.556 | J35: 86280.077
C36: 43941 | D36: 5 | E36: 1361.11 | F36: =E36/D36*2 -> 544.444 | G36: 680.7 | H36: =G36-F36 -> 136.256 | J36: 2886.5876
... C80: 44189 | D80: 8 | E80: 8028.09 | F80: =E80/D80*2 -> 2007.0225 | G80: 2508.9 | H80: =G80-F80 -> 501.8775 | J80: 14067.462
C81: 42906 | D81: 5 | E81: 550 | F81: =E81/D81*5 -> 550 | G81: 550 | H81: =G81-F81 -> 0 | J81: 1888.92
C82: 42901 | D82: 5 | E82: 2500 | F82: =E82/D82*5 -> 2500 | G82: 2500 | H82: =G82-F82 -> 0 | J82: 8586
C83: 42907 | D83: 5 | E83: 2500 | F83: =E83/D83*5 -> 2500 | G83: 2500 | H83: =G83-F83 -> 0 | J83: 8586
C84: 42948 | D84: 5 | E84: 4629.75 | F84: =E84/D84*5 -> 4629.75 | G84: 4629.75 | H84: =G84-F84 -> 0 | J84: 15728.65
C85: 42963 | D85: 5 | E85: 3981.8 | F85: =E85/D85*5 -> 3981.8 | G85: 3981.8 | H85: =G85-F85 -> 0 | J85: 13527.369
C86: 42949 | D86: 5 | E86: 2627.12 | F86: =E86/D86*5 -> 2627.12 | G86: 2627.12 | H86: =G86-F86 -> 0 | J86: 8925.1148
C87: 42963 | D87: 5 | E87: 240 | F87: =E87/D87*5 -> 240 | G87: 240 | H87: =G87-F87 -> 0 | J87: 815.352
C88: 42963 | D88: 5 | E88: 240 | F88: =E88/D88*5 -> 240 | G88: 240 | H88: =G88-F88 -> 0 | J88: 815.352
C89: 42949 | D89: 5 | E89: 810.36 | F89: =E89/D89*5 -> 810.36 | G89: 810.36 | H89: =G89-F89 -> 0 | J89: 2753.036
C90: 42954 | D90: 5 | E90: 1900 | F90: =E90/D90*5 -> 1900 | G90: 1900 | H90: =G90-F90 -> 0 | J90: 6454.87
C91: 42957 | D91: 5 | E91: 8462.5 | F91: =E91/D91*5 -> 8462.5 | G91: 8462.5 | H91: =G91-F91 -> 0 | J91: 28749.651
C92: 42999 | D92: 5 | E92: 2050 | F92: =E92/D92*5 -> 2050 | G92: 2050 | H92: =G92-F92 -> 0 | J92: 6847.492
... C109: 43077 | D109: 10 | E109: 84816 | F109: =E109/D109*5 -> 42408 | G109: 46648.8 | H109: =G109-F109 -> 4240.8 | J109: 271285.67
C110: 43108 | D110: 5 | E110: 2203.39 | F110: =E110/D110*4 -> 1762.712 | G110: 1982.96 | H110: =G110-F110 -> 220.248 | J110: 6863.5598
C111: 43125 | D111: 5 | E111: 775 | F111: =E111/D111*4 -> 620 | G111: 697.6 | H111: =G111-F111 -> 77.6 | J111: 2414.125
C112: 43117 | D112: 5 | E112: 575 | F112: =E112/D112*4 -> 460 | G112: 517.4 | H112: =G112-F112 -> 57.4 | J112: 1791.125
C113: 43110 | D113: 5 | E113: 975 | F113: =E113/D113*4 -> 780 | G113: 877.5 | H113: =G113-F113 -> 97.5 | J113: 3037.125
C114: 43109 | D114: 5 | E114: 300 | F114: =E114/D114*4 -> 240 | G114: 270 | H114: =G114-F114 -> 30 | J114: 934.5
C115: 43125 | D115: 5 | E115: 2397 | F115: =E115/D115*4 -> 1917.6 | G115: 2157.3 | H115: =G115-F115 -> 239.7 | J115: 7466.655
C116: 43151 | D116: 5 | E116: 457.63 | F116: =E116/D116*4 -> 366.104 | G116: 411.95 | H116: =G116-F116 -> 45.846 | J116: 1403.9539
C117: 43138 | D117: 5 | E117: 2203.39 | F117: =E117/D117*4 -> 1762.712 | G117: 1982.96 | H117: =G117-F117 -> 220.248 | J117: 6759.7361
C118: 43160 | D118: 5 | E118: 1150 | F118: =E118/D118*4 -> 920 | G118: 1035.1 | H118: =G118-F118 -> 115.1 | J118: 3438.592
C119: 43168 | D119: 5 | E119: 996 | F119: =E119/D119*4 -> 796.8 | G119: 896.4 | H119: =G119-F119 -> 99.6 | J119: 2978.1197
C120: 43160 | D120: 5 | E120: 1778.62 | F120: =E120/D120*4 -> 1422.896 | G120: 1600.65 | H120: =G120-F120 -> 177.754 | J120: 5318.2161
C121: 43164 | D121: 5 | E121: 4200 | F121: =E121/D121*4 -> 3360 | G121: 3780 | H121: =G121-F121 -> 420 | J121: 12558.336
... C167: 43448 | D167: 4 | E167: 1372.88 | F167: =E167/D167*4 -> 1372.88 | G167: 1372.88 | H167: =G167-F167 -> 0 | J167: 3303.2591
C168: 43524 | D168: 7.0000021 | E168: 3765 | F168: =E168/D168*3 -> 1613.5709 | G168: 1882.46 | H168: =G168-F168 -> 268.88906 | J168: 8909.5713
C169: 43549 | D169: 5 | E169: 3320.53 | F169: =E169/D169*3 -> 1992.318 | G169: 2324.31 | H169: =G169-F169 -> 331.992 | J169: 7630.4451
C170: 43549 | D170: 5 | E170: 1456.86 | F170: =E170/D170*3 -> 874.116 | G170: 1019.77 | H170: =G170-F170 -> 145.654 | J170: 3347.806
C171: 43549 | D171: 7.0000021 | E171: 3518.5 | F171: =E171/D171*4 -> 2010.5708 | G171: 1759.34 | H171: =G171-F171 -> -251.23083 | J171: 8085.3723
C172: 43570 | D172: 5 | E172: 5800 | F172: =E172/D172*3 -> 3480 | G172: 4060.1 | H172: =G172-F172 -> 580.1 | J172: 12981.212
C173: 43572 | D173: 5 | E173: 4211.86 | F173: =E173/D173*3 -> 2527.116 | G173: 2948.37 | H173: =G173-F173 -> 421.254 | J173: 9426.7323
C174: 43600 | D174: 5 | E174: 9990.26 | F174: =E174/D174*3 -> 5994.156 | G174: 6993.05 | H174: =G174-F174 -> 998.894 | J174: 22339.021
C175: 43612 | D175: 5 | E175: 15000 | F175: =E175/D175*3 -> 9000 | G175: 10500 | H175: =G175-F175 -> 1500 | J175: 33541.2
C176: 43635 | D176: 5 | E176: 81841.46 | F176: =E176/D176*3 -> 49104.876 | G176: 57288.89 | H176: =G176-F176 -> 8184.014 | J176: 184835.66
C177: 43635 | D177: 5 | E177: 207932.96 | F177: =E177/D177*3 -> 124759.78 | G177: 145553.09 | H177: =G177-F177 -> 20793.314 | J177: 469608.27
C178: 43642 | D178: 5 | E178: 63808.8 | F178: =E178/D178*3 -> 38285.28 | G178: 44666.16 | H178: =G178-F178 -> 6380.88 | J178: 144109.62
C179: 43642 | D179: 7.0000021 | E179: 2667.12 | F179: =E179/D179*4 -> 1524.0681 | G179: 1333.52 | H179: =G179-F179 -> -190.54811 | J179: 6023.5838
C180: 43644 | D180: 5 | E180: 8223.42 | F180: =E180/D180*3 -> 4934.052 | G180: 5756.48 | H180: =G180-F180 -> 822.428 | J180: 18572.265
C181: 43645 | D181: 5 | E181: 11646.35 | F181: =E181/D181*3 -> 6987.81 | G181: 8152.57 | H181: =G181-F181 -> 1164.76 | J181: 26302.816
C182: 43666 | D182: 5 | E182: 6694.92 | F182: =E182/D182*3 -> 4016.952 | G182: 4686.38 | H182: =G182-F182 -> 669.428 | J182: 15209.921
C183: 43648 | D183: 7.0000021 | E183: 5500 | F183: =E183/D183*4 -> 3142.8562 | G183: 2750.11 | H183: =G183-F183 -> -392.7462 | J183: 12495.23
C184: 43647 | D184: 5.9999988 | E184: 66286.67 | F184: =E184/D184*4 -> 44191.122 | G184: 38667.28 | H184: =G184-F184 -> -5523.8422 | J184: 150594.03
C185: 43686 | D185: 5 | E185: 3347.46 | F185: =E185/D185*3 -> 2008.476 | G185: 2343.19 | H185: =G185-F185 -> 334.714 | J185: 7595.0185
C186: 43686 | D186: 5 | E186: 2330.51 | F186: =E186/D186*3 -> 1398.306 | G186: 1631.3 | H186: =G186-F186 -> 232.994 | J186: 5287.6708
C187: 43710 | D187: 7.0000021 | E187: 135700 | F187: =E187/D187*4 -> 77542.834 | G187: 67850.11 | H187: =G187-F187 -> -9692.7239 | J187: 307370
C188: 43711 | D188: 5 | E188: 9000 | F188: =E188/D188*3 -> 5400 | G188: 6300 | H188: =G188-F188 -> 900 | J188: 20385.63
C189: 43711 | D189: 5 | E189: 3750 | F189: =E189/D189*3 -> 2250 | G189: 2625 | H189: =G189-F189 -> 375 | J189: 8494.0125
C190: 43712 | D190: 5 | E190: 16481.55 | F190: =E190/D190*3 -> 9888.93 | G190: 11537.01 | H190: =G190-F190 -> 1648.08 | J190: 37331.864
C191: 43713 | D191: 5 | E191: 3347.46 | F191: =E191/D191*3 -> 2008.476 | G191: 2343.19 | H191: =G191-F191 -> 334.714 | J191: 7582.2312
C192: 43715 | D192: 5 | E192: 1311.81 | F192: =E192/D192*3 -> 787.086 | G192: 918.16 | H192: =G192-F192 -> 131.074 | J192: 2971.3415
C193: 43724 | D193: 10 | E193: 1500 | F193: =E193/D193*3 -> 450 | G193: 525 | H193: =G193-F193 -> 75 | J193: 3397.605
C194: 43725 | D194: 10 | E194: 1500 | F194: =E194/D194*3 -> 450 | G194: 525 | H194: =G194-F194 -> 75 | J194: 3397.605
C195: 43726 | D195: 10 | E195: 8811.36 | F195: =E195/D195*3 -> 2643.408 | G195: 3084.04 | H195: =G195-F195 -> 440.632 | J195: 19958.347
C196: 43731 | D196: 8 | E196: 1956.66 | F196: =E196/D196*3 -> 733.7475 | G196: 855.98 | H196: =G196-F196 -> 122.2325 | J196: 4431.9719
C197: 43732 | D197: 5 | E197: 5900 | F197: =E197/D197*3 -> 3540 | G197: 4129.9 | H197: =G197-F197 -> 589.9 | J197: 13363.913
C198: 43734 | D198: 5 | E198: 9250 | F198: =E198/D198*3 -> 5550 | G198: 6475.1 | H198: =G198-F198 -> 925.1 | J198: 20951.898
C199: 43734 | D199: 5 | E199: 3800 | F199: =E199/D199*3 -> 2280 | G199: 2659.9 | H199: =G199-F199 -> 379.9 | J199: 8607.266
... C254: 43817 | D254: 4 | E254: 50359.88 | F254: =E254/D254*3 -> 37769.91 | G254: 44064.77 | H254: =G254-F254 -> 6294.86 | J254: 111328.07
C255: 44207 | D255: 4 | E255: 2669.49 | F255: =E255/D255*1 -> 667.3725 | G255: 1000.98 | H255: =G255-F255 -> 333.6075 | J255: 4621.1541
C256: 44230 | D256: 14.999993 | E256: 10084.75 | F256: =E256/D256*1 -> 672.317 | G256: 1008.54 | H256: =G256-F256 -> 336.223 | J256: 16764.687
C257: 44242 | D257: 5 | E257: 8891.43 | F257: =E257/D257*1 -> 1778.286 | G257: 2667.42 | H257: =G257-F257 -> 889.134 | J257: 14780.935
C258: 44239 | D258: 4 | E258: 2999.15 | F258: =E258/D258*1 -> 749.7875 | G258: 1124.64 | H258: =G258-F258 -> 374.8525 | J258: 4985.727
...
